BEGIN:VCALENDAR
VERSION:2.0
PRODID:-//hacksw/handcal//NONSGML v1.0//EN
BEGIN:VEVENT
SUMMARY:Soiree festive de l'association Maurepas-Petanque
UID:e4b54d20-d068-4dc7-8066-a716cad27153
DTSTART:20260228T180000Z
DTEND:20260228T220000Z
LOCATION:Localisation vila Maria, 12 route nationale 10 78310 maurepas
CATEGORIES:Festif
STATUS:
DESCRIPTION:<p>Rendez-vous au restaurant Vila Maria</p>
 
 <p>Aperitif
 et petits fours</p>
 
 <p>Entree</p>
 
 <p>Paella ou
 Picanha</p>
 
 <p>Dessert</p>
 
 <p>Boisson </p>
URL;VALUE=URI:https://www.maurepas-petanque.com/evenements/2026/02/28/soiree-festive-de-lassociation-maurepas-petanque-2419092
END:VEVENT
END:VCALENDAR
